BEGIN:VCALENDAR
VERSION:2.0
PRODID:-//wp-events-plugin.com//7.0.4//EN
TZID:America/New_York
X-WR-TIMEZONE:America/New_York
BEGIN:VEVENT
UID:3@development.mcretirees.org
DTSTART;TZID=America/New_York:20191210T130000
DTEND;TZID=America/New_York:20191210T150000
DTSTAMP:20210118T182458Z
URL:https://development.mcretirees.org/events/retiree-holiday-tea-december
 -2019/
SUMMARY:Retiree Holiday Tea - December 2019
DESCRIPTION:In mid-December 2019\, McCormick Retirees gathered for their tr
 aditional Holiday Tea. Always a popular event\, the Tea afforded our many 
 retirees an opportunity to reconnect and wish each other a happy Holiday S
 eason! As you can see from these pictures\, a good time for the attendees 
 is also part of our tradition!\n\n(Click on a picture to enlarge.)\n\n[gal
 lery ids="6948\,6951\,6946\,6950\,6947\,6944\,6945\,6949"]
END:VEVENT
BEGIN:VTIMEZONE
TZID:America/New_York
X-LIC-LOCATION:America/New_York
BEGIN:STANDARD
DTSTART:20191103T010000
TZOFFSETFROM:-0400
TZOFFSETTO:-0500
TZNAME:EST
END:STANDARD
END:VTIMEZONE
END:VCALENDAR