BEGIN:VCALENDAR
VERSION:2.0
PRODID:-//wp-events-plugin.com//7.0.4//EN
TZID:America/New_York
X-WR-TIMEZONE:America/New_York
BEGIN:VEVENT
UID:7@development.mcretirees.org
DTSTART;TZID=America/New_York;VALUE=DATE:20201012
DTEND;TZID=America/New_York;VALUE=DATE:20201024
DTSTAMP:20200921T152457Z
URL:https://development.mcretirees.org/events/open-enrollment-2020/
SUMMARY:Open Enrollment
DESCRIPTION:Open Enrollment is October 12 through October 23\, 2020\n\nThis
  is a reminder to all Retirees that Open Enrollment is quickly approaching
 . Please be aware of a change in the way materials will be provided this y
 ear for Pre-65 plan members.\n\n 	Communication materials will be mailed t
 o your home address in the beginning of October\n 	Questions regarding enr
 ollment can be referred directly to Aetna by calling 1-800-426-4584 (TTY
 :771)\n 	Members in the post-65 plans will still receive a renewal kit in 
 the mail\n 	NEW This Year: Members in the pre-65 plans will receive a post
  card in the mail instead of a renewal kit\n\n 	The post card guides membe
 rs to visit the retiree benefits website for information about the next ye
 ar’s plan options and details\n 	The retiree benefits website will provi
 de updated rates for the next plan year\n 	No action is necessary for memb
 ers who wish to continue their current coverage selection\n\n\n
END:VEVENT
BEGIN:VTIMEZONE
TZID:America/New_York
X-LIC-LOCATION:America/New_York
BEGIN:DAYLIGHT
DTSTART:20200308T030000
TZOFFSETFROM:-0500
TZOFFSETTO:-0400
TZNAME:EDT
END:DAYLIGHT
END:VTIMEZONE
END:VCALENDAR