BEGIN:VCALENDAR
VERSION:2.0
PRODID:-//wp-events-plugin.com//7.0.4//EN
TZID:America/New_York
X-WR-TIMEZONE:America/New_York
BEGIN:VEVENT
UID:11@development.mcretirees.org
DTSTART;TZID=America/New_York:20210618T120000
DTEND;TZID=America/New_York:20210618T120000
DTSTAMP:20210611T012422Z
URL:https://development.mcretirees.org/events/hopkins-farm-brewery/
SUMMARY:Hopkins Farm Brewery
DESCRIPTION:The McCormick Retiree Association invites you to SAFELY celebra
 te outside….\n       Enjoy friends\, fun\, food\, music\n       
 Drink local beer (support local farms )\n       Win prizes in person o
 r from a distance\n\nWHERE…\nHOPKINS FARM BREWERY\n3833 RIDER LANE\nHAVR
 E DE GRACE MD 21078\n\nhttps://hopkinsfarmbrewery.com\n\nWHEN… FRIDAY\, 
 JUNE 18\, 2021\n\nWHAT…\nNoon - Brewery Opens to the Public\n2 PM - McRA
  Reps Arrive\n       Food Truck by Pairings Village Bistro\n3 PM - Cor
 n Hole Game\n4 PM - Trivia Game\n       Food Truck by Baltimore Crab C
 ake\n5 PM - Music\nEvent Raffle:\nMembers in attendance entered in a drawi
 ng to win 1 of 3 $25 gift cards\nMembers not personally attending will be 
 entered in a separate drawing to win 1 of 3 $25 gift cards (mailed post ev
 ent)\nTrivia Contest:\nIf you want to play but can’t join us in person p
 lease send an email to maritac@comcast.net\n(or mail to 2431 Boston Street
 \, Baltimore\, MD 21224).\nWe’ll send Trivia questions and instructions 
 for winning a bag of Old Bay® Chips. You can have your own contest with y
 our friends\n*Prizes for Corn Hole/Trivia Member Winner(s)*\n*Can bring yo
 ur own food and NON-alcoholic drinks*\n*COVID safety prevents bus transpor
 t *\n*Open to the public during scheduled times family friends welcome*\n*
 Any questions call or text Marita @ 410-596-8435*
END:VEVENT
BEGIN:VTIMEZONE
TZID:America/New_York
X-LIC-LOCATION:America/New_York
BEGIN:DAYLIGHT
DTSTART:20210314T030000
TZOFFSETFROM:-0500
TZOFFSETTO:-0400
TZNAME:EDT
END:DAYLIGHT
END:VTIMEZONE
END:VCALENDAR