BEGIN:VCALENDAR
VERSION:2.0
PRODID:-//wp-events-plugin.com//7.0.4//EN
TZID:America/New_York
X-WR-TIMEZONE:America/New_York
BEGIN:VEVENT
UID:9@development.mcretirees.org
DTSTART;TZID=America/New_York:20201208T070000
DTEND;TZID=America/New_York:20201208T150000
DTSTAMP:20201207T143529Z
URL:https://development.mcretirees.org/events/health-and-wellness-retiree-
 flu-vaccine-tent-event/
SUMMARY:Health and Wellness Retiree Flu Vaccine Tent Event
DESCRIPTION:National Influenza Vaccination Week (NIVW) is December 6-12\, 2
 020 and flu vaccines are encouraged for everyone age 6 months and older. E
 ach year the CDC observes NIVW\, a national awareness week that focuses on
  the importance of getting an influenza vaccination\, especially for those
  with certain chronic conditions such as asthma\, diabetes and heart disea
 se. This year it’s is more important than ever\, especially given the po
 ssibility that the flu virus and the virus that causes COVID-19 will sprea
 d this winter.\n\n\n 	To do our part\, Health &amp\; Wellness (H&amp\;W) i
 s hosting a flu vaccine Tent Event to provide flu vaccines to retirees and
  their spouses/partners.\n 	Two “Ingredients for Health” tents will be
  set up—one at the H&amp\;W entrance\, and the other in the small parkin
 g lot outside H&amp\;W.\n 	Stop by either tent on Tuesday\, December 8 bet
 ween 7 a.m. and 3 p.m. to receive your flu vaccine.\n\nFor questions\, con
 tact Health &amp\; Wellness at 410‑771‑7609 or e‑mail Health_and_Wel
 lness@mccormick.com.
LOCATION:McCormick Global Headquarters\, 24 Schilling Rd\, Hunt Valley\, MD
 \, 21031\, United States
X-APPLE-STRUCTURED-LOCATION;VALUE=URI;X-ADDRESS=24 Schilling Rd\, Hunt Vall
 ey\, MD\, 21031\, United States;X-APPLE-RADIUS=100;X-TITLE=McCormick Globa
 l Headquarters:geo:0,0
END:VEVENT
BEGIN:VTIMEZONE
TZID:America/New_York
X-LIC-LOCATION:America/New_York
BEGIN:STANDARD
DTSTART:20201101T010000
TZOFFSETFROM:-0400
TZOFFSETTO:-0500
TZNAME:EST
END:STANDARD
END:VTIMEZONE
END:VCALENDAR