BEGIN:VCALENDAR
VERSION:2.0
PRODID:-//wp-events-plugin.com//7.0.4//EN
TZID:America/New_York
X-WR-TIMEZONE:America/New_York
BEGIN:VEVENT
UID:6@development.mcretirees.org
DTSTART;TZID=America/New_York:20191118T094500
DTEND;TZID=America/New_York:20191118T190000
DTSTAMP:20201215T113700Z
URL:https://development.mcretirees.org/events/bus-trip-to-national-harbor-
 dec-2019/
SUMMARY:McRA Bus Trip to National Harbor
DESCRIPTION:\n\n 	Gaylord Hotel\, Atrium Village (Shops) decorated for the 
 Holidays\n 	Nineteen story atrium with 3 terraced floors decorated for the
  holidays\n 	Masino Gambling and lobbies decorated for the holidays\n 	FRE
 E shuttle between Gaylord and MGM\n 	River promenade with Ferris Wheel\n 	
 Shops\, Restaurants along the Promenade\n 	Ferry to Alexandria\, Georgetow
 n\n\nHere are some of the sights we enjoyed. (Click on a picture to expand
  it.)\n\n[gallery ids="6485\,6486\,6487\,6488"]
END:VEVENT
BEGIN:VTIMEZONE
TZID:America/New_York
X-LIC-LOCATION:America/New_York
BEGIN:STANDARD
DTSTART:20191103T010000
TZOFFSETFROM:-0400
TZOFFSETTO:-0500
TZNAME:EST
END:STANDARD
END:VTIMEZONE
END:VCALENDAR